BEGIN:VCALENDAR
VERSION:2.0
PRODID:-//wp-events-plugin.com//7.0.5//EN
TZID:Europe/Berlin
X-WR-TIMEZONE:Europe/Berlin
BEGIN:VEVENT
UID:261@kleinestheater.de
DTSTART;TZID=Europe/Berlin:20230528T200000
DTEND;TZID=Europe/Berlin:20230528T214500
DTSTAMP:20230328T104918Z
URL:https://www.kleinestheater.de/theater/wir-sind-die-neuen-23/
SUMMARY:Wir sind die Neuen
DESCRIPTION:Komödie von Jürgen Popig nach dem gleichnamigen Film von Ralf
  Westhoff\n\nDie drei Münchner Singles Anne\, Eddie und Johanne\, alle im
  frühen Rentenalter angekommen\, beschließen\, auch aus finanziellen Gr
 ünden\, ihre alte Wohngemeinschaft aus Studententagen wieder aufleben zu 
 lassen und ziehen wieder zusammen. Ihre neuen Nachbarn\, die Studenten Bar
 bara\, Katharina und Thorsten\, fühlen sich von den feiersüchtigen Althi
 ppies schon bald beim Lernen gestört und bestehen auf penible Einhaltung 
 der Hausordnung. Die Alten sind erstaunt über die Angepasstheit und Spie
 ßigkeit der Jungen. Es entsteht ein Generationenkonflikt der besonderen A
 rt mit allerlei komödiantischen Scharmützeln.
ATTACH;FMTTYPE=image/jpeg:https://www.kleinestheater.de/wp-content/uploads
 /2021/10/flyer-vorn.jpg
END:VEVENT
BEGIN:VTIMEZONE
TZID:Europe/Berlin
X-LIC-LOCATION:Europe/Berlin
BEGIN:DAYLIGHT
DTSTART:20230326T030000
TZOFFSETFROM:+0100
TZOFFSETTO:+0200
TZNAME:CEST
END:DAYLIGHT
END:VTIMEZONE
END:VCALENDAR