BEGIN:VCALENDAR
VERSION:2.0
PRODID:-//wp-events-plugin.com//7.0.5//EN
TZID:Europe/Berlin
X-WR-TIMEZONE:Europe/Berlin
BEGIN:VEVENT
UID:220@kleinestheater.de
DTSTART;TZID=Europe/Berlin:20221229T200000
DTEND;TZID=Europe/Berlin:20221229T214500
DTSTAMP:20221212T140154Z
URL:https://www.kleinestheater.de/theater/traumwelten-von-michael-ende-2/
SUMMARY:Traumwelten von Michael Ende
DESCRIPTION:Musikalische Lesung mit Tatjana Pokorny (Juniordirektorin Klein
 es Theater)\, Veronika Rusch (Autorin)\, Charlotte Rusch (Theaterwissensch
 aftlerin) und Valerian (Musiker). Der Markt Garmisch-Partenkirchen gedenkt
  des deutschen Schriftstellers\, der dieses Jahr seinen 93. Geburtstag gef
 eiert hätte. Seine Werke wurden in mehr als 40 Sprachen übersetzt
ATTACH;FMTTYPE=image/jpeg:https://www.kleinestheater.de/wp-content/uploads
 /2022/11/plakat-klein.jpg
END:VEVENT
BEGIN:VTIMEZONE
TZID:Europe/Berlin
X-LIC-LOCATION:Europe/Berlin
BEGIN:STANDARD
DTSTART:20221030T020000
TZOFFSETFROM:+0200
TZOFFSETTO:+0100
TZNAME:CET
END:STANDARD
END:VTIMEZONE
END:VCALENDAR