BEGIN:VCALENDAR
VERSION:2.0
PRODID:-//wp-events-plugin.com//7.0.5//EN
TZID:Europe/Berlin
X-WR-TIMEZONE:Europe/Berlin
BEGIN:VEVENT
UID:321@kleinestheater.de
DTSTART;TZID=Europe/Berlin:20231105T150000
DTEND;TZID=Europe/Berlin:20231105T161500
DTSTAMP:20231023T040837Z
URL:https://www.kleinestheater.de/theater/sisik-der-seekranke-wikinger-und
 -das-doofe-zweihorn/
SUMMARY:Sisik: Der seekranke Wikinger und das doofe Zweihorn
DESCRIPTION:Kinderstück von Andreas Glas\n\n"SISIK: DER SEEKRANKE WIKINGER
  UND DAS DOOFE ZWEIHORN" (Regie: Tatjana Pokorny und Andreas Glas) - das i
 st ein Nachmittag mit absoluter Lachgarantie! Der erste Band von Andreas G
 las bringt ein Kinderbuch voller Humor und Abenteuer auf die Bühne. Idea
 l für Kleinkinder und Familien\, empfohlen von vier bis 99 Jahren! Folgt 
 Sisik auf seiner spannenden Schatzsuche\, während er auf einer mysteriös
 en Insel landet. Dort trifft er nicht nur auf skurrile und herzliche Figur
 en\, sondern auch auf eine verzogene Prinzessin. Was passiert\, wenn sich 
 ein bärbeißiger Wikinger und eine verwöhnte Königstochter begegnen? Ko
 mmt und findet es heraus!\n \nIm Stück gibt eine Pause. Tickets im VVK b
 ei GAP-Ticket (Tel.: 08821/7301995).
ATTACH;FMTTYPE=image/jpeg:https://www.kleinestheater.de/wp-content/uploads
 /2023/10/sisik-cover-scharf.jpeg
END:VEVENT
BEGIN:VTIMEZONE
TZID:Europe/Berlin
X-LIC-LOCATION:Europe/Berlin
BEGIN:STANDARD
DTSTART:20231029T020000
TZOFFSETFROM:+0200
TZOFFSETTO:+0100
TZNAME:CET
END:STANDARD
END:VTIMEZONE
END:VCALENDAR