BEGIN:VCALENDAR
VERSION:2.0
PRODID:-//wp-events-plugin.com//7.0.5//EN
TZID:Europe/Berlin
X-WR-TIMEZONE:Europe/Berlin
BEGIN:VEVENT
UID:286@kleinestheater.de
DTSTART;TZID=Europe/Berlin:20230715T200000
DTEND;TZID=Europe/Berlin:20230715T214500
DTSTAMP:20230523T100017Z
URL:https://www.kleinestheater.de/theater/pierre-brice-mein-leben-und-winn
 etou-2/
SUMMARY:Pierre Brice: Mein Leben und Winnetou
DESCRIPTION:Ein Multimedia-Schauspiel über die abenteuerliche Biografie vo
 n Pierre Brice nach einer Idee von Hella Brice. Autor: Matthias Weckmann\n
 \nIdol mehrerer Generationen\, preisgekrönter TV- und Kino-Held\, Winneto
 u-Darsteller - und doch so viel mehr! In dem Schauspiel von Matthias Weckm
 ann begleitet das Publikum Pierre Brice durch seine ebenso bewegte wie auf
 regende und gefährliche Biografie. Ein Leben für die Gleichheit\, Freihe
 it\, Brüderlichkeit - und die ewige Liebe.
ATTACH;FMTTYPE=image/jpeg:https://www.kleinestheater.de/wp-content/uploads
 /2023/05/a4-scaled.jpg
END:VEVENT
BEGIN:VTIMEZONE
TZID:Europe/Berlin
X-LIC-LOCATION:Europe/Berlin
BEGIN:DAYLIGHT
DTSTART:20230326T030000
TZOFFSETFROM:+0100
TZOFFSETTO:+0200
TZNAME:CEST
END:DAYLIGHT
END:VTIMEZONE
END:VCALENDAR