BEGIN:VCALENDAR
VERSION:2.0
PRODID:-//wp-events-plugin.com//7.0.5//EN
TZID:Europe/Berlin
X-WR-TIMEZONE:Europe/Berlin
BEGIN:VEVENT
UID:372@kleinestheater.de
DTSTART;TZID=Europe/Berlin:20240309T200000
DTEND;TZID=Europe/Berlin:20240309T214500
DTSTAMP:20240215T155841Z
URL:https://www.kleinestheater.de/theater/pierre-brice-mein-leben-und-winn
 etou-10/
SUMMARY:Pierre Brice: Mein Leben und Winnetou
DESCRIPTION:Zum 95. Geburtstag von Pierre Brice am 06. Februar 2024!\n\nEin
  Multimedia-Schauspiel über die abenteuerliche Biografie von Pierre Brice
  nach einer Idee von Hella Brice. Autor: Matthias Weckmann\n\nIdol mehrere
 r Generationen\, preisgekrönter TV- und Kino-Held\, Winnetou-Darsteller -
  und doch so viel mehr! In dem Schauspiel von Matthias Weckmann begleitet 
 das Publikum Pierre Brice durch seine ebenso bewegte wie aufregende und ge
 fährliche Biografie. Ein Leben für die Gleichheit\, Freiheit\, Brüderli
 chkeit - und die ewige Liebe.
ATTACH;FMTTYPE=image/jpeg:https://www.kleinestheater.de/wp-content/uploads
 /2023/05/a4-scaled.jpg
END:VEVENT
BEGIN:VTIMEZONE
TZID:Europe/Berlin
X-LIC-LOCATION:Europe/Berlin
BEGIN:STANDARD
DTSTART:20231029T020000
TZOFFSETFROM:+0200
TZOFFSETTO:+0100
TZNAME:CET
END:STANDARD
END:VTIMEZONE
END:VCALENDAR