BEGIN:VCALENDAR
VERSION:2.0
PRODID:-//wp-events-plugin.com//7.0.5//EN
TZID:Europe/Berlin
X-WR-TIMEZONE:Europe/Berlin
BEGIN:VEVENT
UID:208@kleinestheater.de
DTSTART;TZID=Europe/Berlin:20230107T200000
DTEND;TZID=Europe/Berlin:20230107T214500
DTSTAMP:20221212T134223Z
URL:https://www.kleinestheater.de/theater/naechstes-jahr-gleiche-zeit-6/
SUMMARY:Nächstes Jahr\, gleiche Zeit
DESCRIPTION:Romantische Komödie von Bernard Slade\n\nIn dem Stück\, das a
 uch von Hollywood verfilmt wurde\, geht es um eine außergewöhnliche Aff
 äre\, eine große Liebe unter ungewöhnlichen Bedingungen. Zwischen Doris
  und George\, anderweitig verheiratet und beide mit drei Kindern gesegnet\
 , funkt es gewaltig. Sie erleben eine verrückte Nacht und beschließen\, 
 dieses wunderbare Erlebnis alljährlich zu wiederholen. Einmal im Jahr tre
 ffen sie sich zur gleichen Zeit im gleichen Hotel. Das Publikum darf nach 
 der ersten Nacht Mäuschen spielen und dann bei den Treffen im Abstand von
  fünf Jahren miterleben\, wie sich und was sich in einem Vierteljahrhunde
 rt alles wandelt. Aus einem Seitensprung wird eine besondere Liebe.\n\n&nb
 sp\;\n\n&nbsp\;
ATTACH;FMTTYPE=image/jpeg:https://www.kleinestheater.de/wp-content/uploads
 /2022/08/njgz.jpg
END:VEVENT
BEGIN:VTIMEZONE
TZID:Europe/Berlin
X-LIC-LOCATION:Europe/Berlin
BEGIN:STANDARD
DTSTART:20221030T020000
TZOFFSETFROM:+0200
TZOFFSETTO:+0100
TZNAME:CET
END:STANDARD
END:VTIMEZONE
END:VCALENDAR