BEGIN:VCALENDAR
VERSION:2.0
PRODID:-//wp-events-plugin.com//7.0.5//EN
TZID:Europe/Berlin
X-WR-TIMEZONE:Europe/Berlin
BEGIN:VEVENT
UID:120@kleinestheater.de
DTSTART;TZID=Europe/Berlin:20220226T200000
DTEND;TZID=Europe/Berlin:20220226T214500
DTSTAMP:20220109T122135Z
URL:https://www.kleinestheater.de/theater/mordsgaudi-im-schachenschloss-8/
SUMMARY:Mordsgaudi im Schachenschloss
DESCRIPTION:Heimatliche Krimikomödie von Matthias Weckmann\n\nIn der heima
 tlichen Krimikomödie von Matthias Weckmann (u.a. „Die Mordsleich vom Ri
 essersee“\, „Hals- und Beinbruch“\, „Die kleine Gräfin“) müsse
 n die beiden „bayerischen Superbullen“ Böck und Zellner einen seltsam
 en Fall in luftiger Höhe lösen: Am Schachenschloss spielen sich während
  eines Filmdrehs über König Ludwig II. unheimliche Dinge ab. Der Regisse
 ur wird bedroht\, sogar von einem Geist ist die Rede\, der des Nachts heru
 mspukt. Böck und Zellner nehmen das Ganze nicht sonderlich ernst – bis 
 ein Mord die bayerische Alpenidylle platzen lässt. „Ich freue mich\, un
 serem Publikum einen weiteren mörderisch-komischen Heimatkrimi präsentie
 ren zu können“\, so Regisseurin Tatjana Pokorny. „Wir haben bereits b
 ei der Leseprobe Tränen gelacht.“\n\n
ATTACH;FMTTYPE=image/jpeg:https://www.kleinestheater.de/wp-content/uploads
 /2020/02/mordsgaudi_im-schachenschloss.jpg
END:VEVENT
BEGIN:VTIMEZONE
TZID:Europe/Berlin
X-LIC-LOCATION:Europe/Berlin
BEGIN:STANDARD
DTSTART:20211031T020000
TZOFFSETFROM:+0200
TZOFFSETTO:+0100
TZNAME:CET
END:STANDARD
END:VTIMEZONE
END:VCALENDAR