BEGIN:VCALENDAR
VERSION:2.0
PRODID:-//wp-events-plugin.com//7.0.5//EN
TZID:Europe/Berlin
X-WR-TIMEZONE:Europe/Berlin
BEGIN:VEVENT
UID:45@kleinestheater.de
DTSTART;TZID=Europe/Berlin:20210619T200000
DTEND;TZID=Europe/Berlin:20210619T213000
DTSTAMP:20210520T103726Z
URL:https://www.kleinestheater.de/theater/mordsgaudi-im-schachenschloss-3/
SUMMARY:MORDSGAUDI IM SCHACHENSCHLOSS
DESCRIPTION:Heimatliche Krimikomödie von Matthias Weckmann
END:VEVENT
BEGIN:VTIMEZONE
TZID:Europe/Berlin
X-LIC-LOCATION:Europe/Berlin
BEGIN:DAYLIGHT
DTSTART:20210328T030000
TZOFFSETFROM:+0100
TZOFFSETTO:+0200
TZNAME:CEST
END:DAYLIGHT
END:VTIMEZONE
END:VCALENDAR