BEGIN:VCALENDAR
VERSION:2.0
PRODID:-//wp-events-plugin.com//7.0.5//EN
TZID:Europe/Berlin
X-WR-TIMEZONE:Europe/Berlin
BEGIN:VEVENT
UID:636@kleinestheater.de
DTSTART;TZID=Europe/Berlin:20260429T200000
DTEND;TZID=Europe/Berlin:20260429T214500
DTSTAMP:20260227T193227Z
URL:https://www.kleinestheater.de/theater/loriots-dramatische-werke-21/
SUMMARY:Loriots dramatische Werke
DESCRIPTION:Das Kleine Theater präsentiert "Loriots dramatische Werke"! Da
 s Ensemble zeigt die bekannten TV-Sketche mit absoluter Lachgarantie\, dar
 unter u.a. "Die Jodelschule"\, "Der Kunstpfeifer"\, "Der Lottogewinner"\, 
 "Das Filmmonster"\, "Das Frühstücksei" oder "Herren im Bad". "Ich freue 
 mich sehr\, Loriot zum ersten Mal in unserer 75-jährigen Geschichte unser
 em Publikum präsentieren zu können"\, so Regisseurin Tatjana Pokorny.
ATTACH;FMTTYPE=image/jpeg:https://www.kleinestheater.de/wp-content/uploads
 /2024/08/hp.jpg
END:VEVENT
BEGIN:VTIMEZONE
TZID:Europe/Berlin
X-LIC-LOCATION:Europe/Berlin
BEGIN:DAYLIGHT
DTSTART:20260329T030000
TZOFFSETFROM:+0100
TZOFFSETTO:+0200
TZNAME:CEST
END:DAYLIGHT
END:VTIMEZONE
END:VCALENDAR