BEGIN:VCALENDAR
VERSION:2.0
PRODID:-//wp-events-plugin.com//7.0.5//EN
TZID:Europe/Berlin
X-WR-TIMEZONE:Europe/Berlin
BEGIN:VEVENT
UID:149@kleinestheater.de
DTSTART;TZID=Europe/Berlin:20220720T200000
DTEND;TZID=Europe/Berlin:20220720T214500
DTSTAMP:20220704T083746Z
URL:https://www.kleinestheater.de/theater/lausbubengeschichten-und-mehr-3/
SUMMARY:Lausbubengeschichten und mehr
DESCRIPTION:Regisseurin Tatjana Pokorny und ihr Ensemble versprechen dem Pu
 blikum einen äußerst amüsanten Abend mit Thomas bekanntesten Werken (u.
 a. „Lausbubengeschichten“)\, die beste Unterhaltung mit viel Charme un
 d Wortwitz bieten – typisch bayerisch\, typisch Thoma eben. In die gewoh
 nt markanten Charaktere schlüpfen Elisabeth Hofmeister\, Robert Krinninge
 r und Christoph Walter\, der die Texte auch zusammengetragen hat. „Ich b
 ewundere Ludwig Thomas Schreibstil\, seinen Humor und die Hintergründigke
 it“\, erläutert der Eschenloher seine Faszination für den Autor. „Ic
 h hoffe\, diese Geschichten begeistern die Zuschauer genau so wie sie mich
  über viele\, viele Jahre begeistert haben.“
ATTACH;FMTTYPE=image/jpeg:https://www.kleinestheater.de/wp-content/uploads
 /2022/03/flyer-vorn-copy.jpg
END:VEVENT
BEGIN:VTIMEZONE
TZID:Europe/Berlin
X-LIC-LOCATION:Europe/Berlin
BEGIN:DAYLIGHT
DTSTART:20220327T030000
TZOFFSETFROM:+0100
TZOFFSETTO:+0200
TZNAME:CEST
END:DAYLIGHT
END:VTIMEZONE
END:VCALENDAR