BEGIN:VCALENDAR
VERSION:2.0
PRODID:-//wp-events-plugin.com//7.0.5//EN
TZID:Europe/Berlin
X-WR-TIMEZONE:Europe/Berlin
BEGIN:VEVENT
UID:174@kleinestheater.de
DTSTART;TZID=Europe/Berlin:20220902T200000
DTEND;TZID=Europe/Berlin:20220902T214500
DTSTAMP:20220826T091248Z
URL:https://www.kleinestheater.de/theater/landeier-bauern-suchen-frauen-pr
 emiere-eintritt-nur-fuer-frauen/
SUMMARY:Landeier (Bauern suchen Frauen) - PREMIERE (Ladies Only!)
DESCRIPTION:Diese Jungs geben nicht nur ihr letztes Hemd – hier fallen ta
 tsächlich alle Hüllen! In tiefer und gottverlassener Provinz\, fernab he
 ktischen Stadt-Trubels\, führen die Helden ein beschauliches Dasein. Aber
  etwas Entscheidendes fehlt: der passende Deckel zum Topf\, sprich Frauen.
  Aber woher nehmen? Sind Kontaktanzeigen noch angesagt? Sollte man Partner
 vermittlungen „mit Niveau“ ausprobieren? Oder bieten Chatrooms und Vid
 eoportale im Internet die zeitgemäße Möglichkeit\, Frauen für das Land
 leben samt ihrer Ureinwohner und deren Zeitvertreibe à la Treckertuning z
 u begeistern? In dieser Komödie begeistern die Dialoge ebenso wie die Cha
 raktere. Achtung: Die Premiere von „Landeier (Bauern suchen Frauen)“ u
 nter der Regie von Tatjana Pokorny ist ausschließlich für weibliche Besu
 cher reserviert. Kommen Sie nur\, wenn sie nackten Tatsachen auch ins Auge
  blicken können.
ATTACH;FMTTYPE=image/jpeg:https://www.kleinestheater.de/wp-content/uploads
 /2022/08/plakatvorab-klein.jpg
END:VEVENT
BEGIN:VTIMEZONE
TZID:Europe/Berlin
X-LIC-LOCATION:Europe/Berlin
BEGIN:DAYLIGHT
DTSTART:20220327T030000
TZOFFSETFROM:+0100
TZOFFSETTO:+0200
TZNAME:CEST
END:DAYLIGHT
END:VTIMEZONE
END:VCALENDAR