BEGIN:VCALENDAR
VERSION:2.0
PRODID:-//wp-events-plugin.com//7.0.5//EN
TZID:Europe/Berlin
X-WR-TIMEZONE:Europe/Berlin
BEGIN:VEVENT
UID:301@kleinestheater.de
DTSTART;TZID=Europe/Berlin:20230818T200000
DTEND;TZID=Europe/Berlin:20230818T214500
DTSTAMP:20230724T152622Z
URL:https://www.kleinestheater.de/theater/jedermann-18/
SUMMARY:Jedermann
DESCRIPTION:Schauspiel von Hugo von Hofmansthal\n\nAls Gott sieht\, dass er
  auf Erden nicht mehr geschätzt wird\, sendet er den Tod\, um an Jederman
 n ein Exempel zu statuieren und ihn von der Erde abzuberufen. Jedermann\, 
 verliebt in sein Hab und Gut\, verächtlich gegenüber weniger Begünstigt
 en und unversöhnlich gegenüber seinen Schuldnern\, lädt zur noblen Tisc
 hgesellschaft. Mitten hinein in die illustre Runde erscheint der Tod und 
 überbringt die bittere Nachricht des Schöpfers. Jedermann erbittet sich 
 eine kleine Weile Zeit mehr auf Erden\, um ein Geleit für den letzten Weg
  zu erbitten und enkennt dabei den wahren Schatz des Lebens. Hofmannsthal 
 berühmtes Myterienstpiel vom Sterben des reichen Mannes\, das seit 1920 f
 ester Bestandteil der Salzburger Festspiele ist\, in einer besonderen Insz
 enierung auf der Bühne des Kleinen Theaters.\n
ATTACH;FMTTYPE=image/jpeg:https://www.kleinestheater.de/wp-content/uploads
 /2020/02/jedermann.jpg
END:VEVENT
BEGIN:VTIMEZONE
TZID:Europe/Berlin
X-LIC-LOCATION:Europe/Berlin
BEGIN:DAYLIGHT
DTSTART:20230326T030000
TZOFFSETFROM:+0100
TZOFFSETTO:+0200
TZNAME:CEST
END:DAYLIGHT
END:VTIMEZONE
END:VCALENDAR