BEGIN:VCALENDAR
VERSION:2.0
PRODID:-//wp-events-plugin.com//7.0.5//EN
TZID:Europe/Berlin
X-WR-TIMEZONE:Europe/Berlin
BEGIN:VEVENT
UID:189@kleinestheater.de
DTSTART;TZID=Europe/Berlin:20221207T200000
DTEND;TZID=Europe/Berlin:20221207T214500
DTSTAMP:20221102T134727Z
URL:https://www.kleinestheater.de/theater/heimat-talk-benefizveranstaltung
 -zugunsten-der-kinderintensivstation-des-klinikums-gapa/
SUMMARY:Heimat Talk - Benefizveranstaltung zugunsten der Kinderintensivstat
 ion des Klinikums GaPa
DESCRIPTION:Unterhaltsame Interviewrunde mit Persönlichkeiten aus der Regi
 on .\nLivegäste: Hermann Giefer (Schauspieler)\, Peppi Heiß (Eishockey
 -Legende)\, Stella Heiß (Curling-Weltmeisterin)\, Josef Konitzer (Pfarrer
 ) und Veronika Rusch (Autorin).\nModeration: Matthias Weckmann/Schirmherrs
 chaft: 1. Bürgermeisterin Elisabeth Koch.\nDer Eintritt ist frei\, wir bi
 tten im Zuge der Veranstaltung um Spenden.\n&nbsp\;
ATTACH;FMTTYPE=image/jpeg:https://www.kleinestheater.de/wp-content/uploads
 /2022/11/plakat-klein-1.jpg
END:VEVENT
BEGIN:VTIMEZONE
TZID:Europe/Berlin
X-LIC-LOCATION:Europe/Berlin
BEGIN:STANDARD
DTSTART:20221030T020000
TZOFFSETFROM:+0200
TZOFFSETTO:+0100
TZNAME:CET
END:STANDARD
END:VTIMEZONE
END:VCALENDAR