BEGIN:VCALENDAR
VERSION:2.0
PRODID:-//wp-events-plugin.com//7.0.5//EN
TZID:Europe/Berlin
X-WR-TIMEZONE:Europe/Berlin
BEGIN:VEVENT
UID:634@kleinestheater.de
DTSTART;TZID=Europe/Berlin:20260502T200000
DTEND;TZID=Europe/Berlin:20260502T214500
DTSTAMP:20260228T085306Z
URL:https://www.kleinestheater.de/theater/extrawurst/
SUMMARY:Extrawurst
DESCRIPTION:Extrawurst\nKomödie von Dietmar Jacobs und Moritz Netenjakob\n
 \n\nIn einem Tennisclub soll eigentlich nur über einen neuen Grill abgest
 immt werden. Doch der Vorschlag\, zusätzlich einen eigenen Grill für das
  einzige türkische Mitglied anzuschaffen\, sorgt für heftige Diskussione
 n. Denn gläubige Muslime dürfen ihre Grillwürste bekanntlich nicht auf 
 einen Rost mit Schweinefleisch legen. Eine gut gemeinte Idee\, die aber im
 mense Diskussionen auslöst. Schnell prallen unterschiedliche Meinungen un
 d Weltanschauungen aufeinander – und der kleine Konflikt wird zur große
 n Zerreißprobe. Zumal die Grenzen zwischen „rechts und links“\, „to
 lerant und intolerant“\, „religiös und ungläubig“ viel fließender
  sind als man denkt. Die Zuschauer sind als Vereinsmitglieder direkter Tei
 l des Geschehens und erleben mit\, wie sich eine Gesellschaft komplett zer
 legen kann. Und das in einer schnellen\, hochpointierten und sehr aktuelle
 n Komödie\, die jüngst u.a. mit Hape Kerkeling\, Christoph-Maria Herbst 
 und Fahri Yardim erfolgreich für das deutsche Kino verfilmt wurde.\n\n\n
ATTACH;FMTTYPE=image/jpeg:https://www.kleinestheater.de/wp-content/uploads
 /2026/02/vorabplakat-scaled.jpg
END:VEVENT
BEGIN:VTIMEZONE
TZID:Europe/Berlin
X-LIC-LOCATION:Europe/Berlin
BEGIN:DAYLIGHT
DTSTART:20260329T030000
TZOFFSETFROM:+0100
TZOFFSETTO:+0200
TZNAME:CEST
END:DAYLIGHT
END:VTIMEZONE
END:VCALENDAR