BEGIN:VCALENDAR
VERSION:2.0
PRODID:-//wp-events-plugin.com//7.0.5//EN
TZID:Europe/Berlin
X-WR-TIMEZONE:Europe/Berlin
BEGIN:VEVENT
UID:633@kleinestheater.de
DTSTART;TZID=Europe/Berlin:20260425T200000
DTEND;TZID=Europe/Berlin:20260425T214500
DTSTAMP:20260228T085244Z
URL:https://www.kleinestheater.de/theater/extrawurst-premiere/
SUMMARY:Extrawurst (PREMIERE!)
DESCRIPTION:Extrawurst\nKomödie von Dietmar Jacobs und Moritz Netenjakob\n
 \nIn einem Tennisclub soll eigentlich nur über einen neuen Grill abgestim
 mt werden. Doch der Vorschlag\, zusätzlich einen eigenen Grill für das e
 inzige türkische Mitglied anzuschaffen\, sorgt für heftige Diskussionen.
  Denn gläubige Muslime dürfen ihre Grillwürste bekanntlich nicht auf ei
 nen Rost mit Schweinefleisch legen. Eine gut gemeinte Idee\, die aber imme
 nse Diskussionen auslöst. Schnell prallen unterschiedliche Meinungen und
  Weltanschauungen aufeinander – und der kleine Konflikt wird zur großen
  Zerreißprobe. Zumal die Grenzen zwischen „rechts und links“\, „tol
 erant und intolerant“\, „religiös und ungläubig“ viel fließender 
 sind als man denkt. Die Zuschauer sind als Vereinsmitglieder direkter Teil
  des Geschehens und erleben mit\, wie sich eine Gesellschaft komplett zerl
 egen kann. Und das in einer schnellen\, hochpointierten und sehr aktuellen
  Komödie\, die jüngst u.a. mit Hape Kerkeling\, Christoph-Maria Herbst u
 nd Fahri Yardim erfolgreich für das deutsche Kino verfilmt wurde.\n\n\n
ATTACH;FMTTYPE=image/jpeg:https://www.kleinestheater.de/wp-content/uploads
 /2026/02/vorabplakat-scaled.jpg
END:VEVENT
BEGIN:VTIMEZONE
TZID:Europe/Berlin
X-LIC-LOCATION:Europe/Berlin
BEGIN:DAYLIGHT
DTSTART:20260329T030000
TZOFFSETFROM:+0100
TZOFFSETTO:+0200
TZNAME:CEST
END:DAYLIGHT
END:VTIMEZONE
END:VCALENDAR