BEGIN:VCALENDAR
VERSION:2.0
PRODID:-//wp-events-plugin.com//7.0.5//EN
TZID:Europe/Berlin
X-WR-TIMEZONE:Europe/Berlin
BEGIN:VEVENT
UID:201@kleinestheater.de
DTSTART;TZID=Europe/Berlin:20221211T180000
DTEND;TZID=Europe/Berlin:20221211T194500
DTSTAMP:20221208T132705Z
URL:https://www.kleinestheater.de/theater/eine-bayerische-weihnachtsgeschi
 chte-3/
SUMMARY:Eine bayerische Weihnachtsgeschichte
DESCRIPTION:Weihnachtsschauspiel nach Charles Dickens von Matthias Weckmann
 \n\nFestlich geht es bei „Eine bayerische Weihnachtsgeschichte“ zu\, m
 it der das Kleine Theater sein Publikum auf die Weihnachtszeit einstimmt. 
 Autor Matthias Weckmann hat die weltbekannte Erzählung von Charles Dicken
 s in ein bayerisches Gewand gekleidet und eine Bühnenfassung erstellt\, 
 „die sowohl besinnlich\, aber zugleich auch unterhaltsam ist“\, wie We
 ckmann erläutert. „Mir war wichtig\, dass nicht nur die Erwachsenen\, s
 ondern auch Kinder an diesem Stück ihre Freude haben. Denn gerade sie mac
 hen das Weihnachtsfest ja so besonders“\, so der zweifache Familienvater
  aus Grainau.
ATTACH;FMTTYPE=image/jpeg:https://www.kleinestheater.de/wp-content/uploads
 /2022/11/plakat-snipping.jpg
END:VEVENT
BEGIN:VTIMEZONE
TZID:Europe/Berlin
X-LIC-LOCATION:Europe/Berlin
BEGIN:STANDARD
DTSTART:20221030T020000
TZOFFSETFROM:+0200
TZOFFSETTO:+0100
TZNAME:CET
END:STANDARD
END:VTIMEZONE
END:VCALENDAR