BEGIN:VCALENDAR
VERSION:2.0
PRODID:-//wp-events-plugin.com//7.0.5//EN
TZID:Europe/Berlin
X-WR-TIMEZONE:Europe/Berlin
BEGIN:VEVENT
UID:463@kleinestheater.de
DTSTART;TZID=Europe/Berlin:20241215T200000
DTEND;TZID=Europe/Berlin:20241215T214500
DTSTAMP:20241126T190400Z
URL:https://www.kleinestheater.de/theater/eine-bayerische-weihnachtsgeschi
 chte-11/
SUMMARY:Eine bayerische Weihnachtsgeschichte
DESCRIPTION:Weihnachtsschauspiel nach Charles Dickens von Matthias Weckmann
 \n\nFestlich geht es bei „Eine bayerische Weihnachtsgeschichte“ zu\, m
 it der das Kleine Theater sein Publikum bei der Wiederaufnahme-Premiere au
 f die Weihnachtszeit einstimmt. Autor Matthias Weckmann hat die weltbekann
 te Erzählung von Charles Dickens in ein bayerisches Gewand gekleidet und 
 eine Bühnenfassung erstellt\, „die sowohl besinnlich\, aber zugleich au
 ch unterhaltsam ist“\, wie Weckmann erläutert. „Mir war wichtig\, das
 s nicht nur die Erwachsenen\, sondern auch Kinder an diesem Stück ihre Fr
 eude haben. Denn gerade sie machen das Weihnachtsfest ja so besonders“\,
  so der zweifache Familienvater aus Grainau.
ATTACH;FMTTYPE=image/jpeg:https://www.kleinestheater.de/wp-content/uploads
 /2022/11/plakat-snipping.jpg
END:VEVENT
BEGIN:VTIMEZONE
TZID:Europe/Berlin
X-LIC-LOCATION:Europe/Berlin
BEGIN:STANDARD
DTSTART:20241027T020000
TZOFFSETFROM:+0200
TZOFFSETTO:+0100
TZNAME:CET
END:STANDARD
END:VTIMEZONE
END:VCALENDAR