BEGIN:VCALENDAR
VERSION:2.0
PRODID:-//wp-events-plugin.com//7.0.5//EN
TZID:Europe/Berlin
X-WR-TIMEZONE:Europe/Berlin
BEGIN:VEVENT
UID:159@kleinestheater.de
DTSTART;TZID=Europe/Berlin:20220730T200000
DTEND;TZID=Europe/Berlin:20220730T214500
DTSTAMP:20220704T085908Z
URL:https://www.kleinestheater.de/theater/eine-bank-in-der-sonne-4/
SUMMARY:Eine Bank in der Sonne
DESCRIPTION:Komödie von Ron Clark\n\nInhaltlich widmet sich die Komödie g
 eistreich den sonnigen Tagen im Herbst des Lebens. Eine Bank im Park einer
  Seniorenresidenz ist für den Verlauf eines Jahres Schauplatz einer amüs
 anten\, berührenden Geschichte von Liebe und Verdruss\, von Freundschaft 
 und Hoffnung im Alter. Der schlampige Burt und der stets im Zwirn gekleide
 te Harold kennen sich schon lange\, und sie so oft im Leben herrscht zwisc
 hen den beiden nicht nur eitel Sonnenschein. Mit der lebenslustigen Adrien
 ne kommt frischer Wind in die Monotonie des Heimalltags. Die kapriziöse L
 ady wickelt mit ihrem Charme und Temperament gleich beide Bank-Genossen um
  den Finger. Ein Tummelplatz für drei Ausnahmekomödianten mit viel Witz 
 und Humor.
ATTACH;FMTTYPE=image/jpeg:https://www.kleinestheater.de/wp-content/uploads
 /2020/02/Unbenannt.jpg
END:VEVENT
BEGIN:VTIMEZONE
TZID:Europe/Berlin
X-LIC-LOCATION:Europe/Berlin
BEGIN:DAYLIGHT
DTSTART:20220327T030000
TZOFFSETFROM:+0100
TZOFFSETTO:+0200
TZNAME:CEST
END:DAYLIGHT
END:VTIMEZONE
END:VCALENDAR