BEGIN:VCALENDAR
VERSION:2.0
PRODID:-//wp-events-plugin.com//7.0.5//EN
TZID:Europe/Berlin
X-WR-TIMEZONE:Europe/Berlin
BEGIN:VEVENT
UID:142@kleinestheater.de
DTSTART;TZID=Europe/Berlin:20220408T200000
DTEND;TZID=Europe/Berlin:20220408T214500
DTSTAMP:20220303T201951Z
URL:https://www.kleinestheater.de/theater/eine-bank-in-der-sonne-2/
SUMMARY:Eine Bank in der Sonne
DESCRIPTION:Inhaltlich widmet sich die Komödie geistreich den sonnigen Tag
 en im Herbst des Lebens.Eine Bank im Park einer Seniorenresidenz ist für 
 den Verlauf eines Jahres Schauplatz einer amüsanten\, berührenden Geschi
 chte von Liebe und Verdruss\, von Freundschaft und Hoffnung im Alter. Der 
 schlampige Burt und der stets im Zwirn gekleidete Harold kennen sich schon
  lange\, und sie so oft im Leben herrscht zwischen den beiden nicht nur ei
 tel Sonnenschein. Mit der lebenslustigen Adrienne kommt frischer Wind in d
 ie Monotonie des Heimalltags. Die kapriziöse Lady wickelt mit ihrem Charm
 e und Temperament gleich beide Bank-Genossen um den Finger. Ein Tummelplat
 z für drei Ausnahmekomödianten mit viel Witz und Humor.
ATTACH;FMTTYPE=image/jpeg:https://www.kleinestheater.de/wp-content/uploads
 /2020/02/eine_bank_in_der_sonne.jpg
END:VEVENT
BEGIN:VTIMEZONE
TZID:Europe/Berlin
X-LIC-LOCATION:Europe/Berlin
BEGIN:DAYLIGHT
DTSTART:20220327T030000
TZOFFSETFROM:+0100
TZOFFSETTO:+0200
TZNAME:CEST
END:DAYLIGHT
END:VTIMEZONE
END:VCALENDAR