BEGIN:VCALENDAR
VERSION:2.0
PRODID:-//wp-events-plugin.com//7.0.5//EN
TZID:Europe/Berlin
X-WR-TIMEZONE:Europe/Berlin
BEGIN:VEVENT
UID:310@kleinestheater.de
DTSTART;TZID=Europe/Berlin:20230922T200000
DTEND;TZID=Europe/Berlin:20230922T214500
DTSTAMP:20230830T124505Z
URL:https://www.kleinestheater.de/theater/die-mordshexen-von-der-partnachk
 lamm-6/
SUMMARY:Die Mordshexen von der Partnachklamm
DESCRIPTION:Heimatliche Krimikomödie von Matthias Weckmann\n\nIm dritten T
 eil der Kultreihe "Böck &amp\; Zellner" aus der Feder von Autor Matthias 
 Weckmann spielt sich das mörderisch komische Geschehen rund um das Naturw
 under Partnachklamm ab. Ein mysteriöser Hexenbund treibt dort sein Unwese
 n\, sehr zum Missfallen einiger männlicher Bürger im Ort. Als eine der H
 exen tot aufgefunden wird\, nehmen Böck und Zellner die Ermittlungen auf:
  gewohnt chaotisch\, gewohnt unterhaltsam und gewohnt hungrig. Und dann is
 t da noch der Hansi\, der Hauptkommissar Zellner an den Rand des Nervenzus
 ammenbruchs treibt... "Wir mussten die Leseprobe mehrmals unterbrechen\, w
 eil wir alle Tränen gelacht haben und nicht mehr fortfahren konnten"\, fr
 eut sich Regisseurin Tatjana Pokorny auf den dritten Teil der heimatlichen
  Krimikomödie\, die wie gewohnt auch lokale Themen humoristisch verarbeit
 et. Mordsgaudi garantiert!
ATTACH;FMTTYPE=image/jpeg:https://www.kleinestheater.de/wp-content/uploads
 /2023/05/flyer-vorn.jpg
END:VEVENT
BEGIN:VTIMEZONE
TZID:Europe/Berlin
X-LIC-LOCATION:Europe/Berlin
BEGIN:DAYLIGHT
DTSTART:20230326T030000
TZOFFSETFROM:+0100
TZOFFSETTO:+0200
TZNAME:CEST
END:DAYLIGHT
END:VTIMEZONE
END:VCALENDAR