BEGIN:VCALENDAR
VERSION:2.0
PRODID:-//wp-events-plugin.com//7.0.5//EN
TZID:Europe/Berlin
X-WR-TIMEZONE:Europe/Berlin
BEGIN:VEVENT
UID:308@kleinestheater.de
DTSTART;TZID=Europe/Berlin:20230917T200000
DTEND;TZID=Europe/Berlin:20230917T214500
DTSTAMP:20230830T124332Z
URL:https://www.kleinestheater.de/theater/die-geierwally-14/
SUMMARY:Die Geierwally
DESCRIPTION:Heimatklassiker von Hans Gnant \n\nDer weltbekannte Heimatklass
 iker erzählt die bewegende Geschichte der stolzen und willensstarken Baue
 rstochter Wally\, die von ihrem Vater zur Eheschließung gedrängt wird\, 
 obwohl ihr Herz einem anderen Mann gehört. Inmitten der romantischen Alpe
 nwelt entwickelt sich ein emotionsgeladenes Spektakel voller Liebe\, Wut\,
  Hass und Eifersucht.\n\n
ATTACH;FMTTYPE=image/jpeg:https://www.kleinestheater.de/wp-content/uploads
 /2020/02/die_geierwally.jpg
END:VEVENT
BEGIN:VTIMEZONE
TZID:Europe/Berlin
X-LIC-LOCATION:Europe/Berlin
BEGIN:DAYLIGHT
DTSTART:20230326T030000
TZOFFSETFROM:+0100
TZOFFSETTO:+0200
TZNAME:CEST
END:DAYLIGHT
END:VTIMEZONE
END:VCALENDAR