BEGIN:VCALENDAR
VERSION:2.0
PRODID:-//wp-events-plugin.com//7.0.5//EN
TZID:Europe/Berlin
X-WR-TIMEZONE:Europe/Berlin
BEGIN:VEVENT
UID:620@kleinestheater.de
DTSTART;TZID=Europe/Berlin:20260326T200000
DTEND;TZID=Europe/Berlin:20260326T214500
DTSTAMP:20260227T190511Z
URL:https://www.kleinestheater.de/theater/der-vorname-8/
SUMMARY:Der Vorname
DESCRIPTION:Komödie von Matthieu Delaporte und Alexandre de La Patellière
 \n\nDeutsche Übersetzung: Georg Holzer\n\nEin Name – ein Feuerwerk!\nEi
 n geselliger Abend unter Freunden und Familie eskaliert\, als Vincent den 
 geplanten Namen seines ungeborenen Sohnes enthüllt. Was als harmlose Disk
 ussion beginnt\, entwickelt sich zu einem Schlagabtausch voller pointierte
 r Wortgefechte\, verletzter Eitelkeiten und überraschender Enthüllungen.
  Eine brillante Gesellschaftskomödie\, die amüsiert und garantiert für 
 beste Unterhaltung sorgt. „Der Vorname“ – erfolgreich verfilmt für 
 Kino und TV!
ATTACH;FMTTYPE=image/jpeg:https://www.kleinestheater.de/wp-content/uploads
 /2025/04/flyer-vorn.png
END:VEVENT
BEGIN:VTIMEZONE
TZID:Europe/Berlin
X-LIC-LOCATION:Europe/Berlin
BEGIN:STANDARD
DTSTART:20251026T020000
TZOFFSETFROM:+0200
TZOFFSETTO:+0100
TZNAME:CET
END:STANDARD
END:VTIMEZONE
END:VCALENDAR