BEGIN:VCALENDAR
VERSION:2.0
PRODID:-//wp-events-plugin.com//7.0.5//EN
TZID:Europe/Berlin
X-WR-TIMEZONE:Europe/Berlin
BEGIN:VEVENT
UID:627@kleinestheater.de
DTSTART;TZID=Europe/Berlin:20260318T200000
DTEND;TZID=Europe/Berlin:20260318T214500
DTSTAMP:20260227T191129Z
URL:https://www.kleinestheater.de/theater/das-narrische-wirtshaus-von-garm
 isch-partenkirchen-12/
SUMMARY:Das narrische Wirtshaus von Garmisch-Partenkirchen
DESCRIPTION:Lustspiel von Matthias Weckmann\n\nZwei Wirtshäuser und zwei W
 elten prallen aufeinander: Auf der einen Seite die traditionsbewusste Rosi
 \, auf der anderen Seite der selbsternannte Modernisierer Martin. Doch was
  kommt in Garmisch-Partenkirchen besser an? Hirsch oder Alpenlodge? Gebrat
 ene Forelle oder Tofu-Lachs? Kaminholz oder Wärmepumpe? Und wie es sich f
 ür ein Wirtshaus gehört\, werden auch lokale Themen emotional diskutiert
 : Farchanter Tunnel\, Eibsee-Chaos\, neues Wellenbad und vieles mehr. Der 
 Wahnsinn wird vollkommen\, als sich die unterschiedlichsten Gäste einfind
 en\, welche alle zeitnah einen Termin beim Irrenarzt bekommen könnten. Gu
 t\, dass wenigstens der Hias in all dem Trubel den Überblick behält\, he
 iliger Gerstensaft sei Dank. Willkommen im narrischen Wirtshaus von Garmis
 ch-Partenkirchen!
ATTACH;FMTTYPE=image/jpeg:https://www.kleinestheater.de/wp-content/uploads
 /2025/06/flyer-vorn.png
END:VEVENT
BEGIN:VTIMEZONE
TZID:Europe/Berlin
X-LIC-LOCATION:Europe/Berlin
BEGIN:STANDARD
DTSTART:20251026T020000
TZOFFSETFROM:+0200
TZOFFSETTO:+0100
TZNAME:CET
END:STANDARD
END:VTIMEZONE
END:VCALENDAR