BEGIN:VCALENDAR
VERSION:2.0
PRODID:-//wp-events-plugin.com//7.0.5//EN
TZID:Europe/Berlin
X-WR-TIMEZONE:Europe/Berlin
BEGIN:VEVENT
UID:151@kleinestheater.de
DTSTART;TZID=Europe/Berlin:20220715T200000
DTEND;TZID=Europe/Berlin:20220715T214500
DTSTAMP:20220704T114337Z
URL:https://www.kleinestheater.de/theater/das-beste-von-karl-valentin-prem
 iere/
SUMMARY:Das Beste von Karl Valentin (PREMIERE)
DESCRIPTION:Die besten Einakter von Karl Valentin und Liesl Karlstadt\, u.a
 . "Die Brille"\, "Der Hasenbraten"\, "Der Firmling" sowie "Der Theaterbesu
 ch".\n\nGespielt von den "Valentin-Preisträgern der Stadt München"\,  
 Elisabeth Hofmeister und Georg Löcherer\, sowie Rainer Pokorny.
END:VEVENT
BEGIN:VTIMEZONE
TZID:Europe/Berlin
X-LIC-LOCATION:Europe/Berlin
BEGIN:DAYLIGHT
DTSTART:20220327T030000
TZOFFSETFROM:+0100
TZOFFSETTO:+0200
TZNAME:CEST
END:DAYLIGHT
END:VTIMEZONE
END:VCALENDAR