BEGIN:VCALENDAR
VERSION:2.0
PRODID:-//wp-events-plugin.com//7.0.5//EN
TZID:Europe/Berlin
X-WR-TIMEZONE:Europe/Berlin
BEGIN:VEVENT
UID:510@kleinestheater.de
DTSTART;TZID=Europe/Berlin:20250321T200000
DTEND;TZID=Europe/Berlin:20250321T214500
DTSTAMP:20250314T132549Z
URL:https://www.kleinestheater.de/theater/das-beste-von-karl-valentin-29/
SUMMARY:Das Beste von Karl Valentin
DESCRIPTION:Die besten Einakter von Karl Valentin und Liesl Karlstadt\, u.a
 . "Die Brille"\, "Der Hasenbraten"\, "Der Firmling" sowie "Der Theaterbesu
 ch".\n\nGespielt von den "Valentin-Preisträgern der Stadt München"\,  
 Elisabeth Hofmeister und Georg Löcherer\, sowie Rainer Pokorny.
ATTACH;FMTTYPE=image/jpeg:https://www.kleinestheater.de/wp-content/uploads
 /2022/07/valentin.jpg
END:VEVENT
BEGIN:VTIMEZONE
TZID:Europe/Berlin
X-LIC-LOCATION:Europe/Berlin
BEGIN:STANDARD
DTSTART:20241027T020000
TZOFFSETFROM:+0200
TZOFFSETTO:+0100
TZNAME:CET
END:STANDARD
END:VTIMEZONE
END:VCALENDAR